BEGIN:VCALENDAR
VERSION:2.0
PRODID:-//USD SAN GIUSEPPE - ECPv6.15.20//NONSGML v1.0//EN
CALSCALE:GREGORIAN
METHOD:PUBLISH
X-WR-CALNAME:USD SAN GIUSEPPE
X-ORIGINAL-URL:https://usdsangiuseppe.it
X-WR-CALDESC:Eventi per USD SAN GIUSEPPE
REFRESH-INTERVAL;VALUE=DURATION:PT1H
X-Robots-Tag:noindex
X-PUBLISHED-TTL:PT1H
BEGIN:VTIMEZONE
TZID:UTC
BEGIN:STANDARD
TZOFFSETFROM:+0000
TZOFFSETTO:+0000
TZNAME:UTC
DTSTART:20240101T000000
END:STANDARD
END:VTIMEZONE
BEGIN:VEVENT
DTSTART;VALUE=DATE:20250920
DTEND;VALUE=DATE:20250921
DTSTAMP:20260422T133641
CREATED:20251202T102524Z
LAST-MODIFIED:20260204T115209Z
UID:5101-1758326400-1758412799@usdsangiuseppe.it
SUMMARY:Mantova e navigazione sui laghi
DESCRIPTION:Escursione città di Mantova con navigazione sui laghi
URL:https://usdsangiuseppe.it/evento/mantova-e-navigazione-sui-laghi/
LOCATION:Rovereto\, via Silvio Pellico 18-20
CATEGORIES:viaggi
ATTACH;FMTTYPE=image/jpeg:https://usdsangiuseppe.it/wp-content/uploads/2025/12/25-mantova.jpg
END:VEVENT
END:VCALENDAR