BEGIN:VCALENDAR
VERSION:2.0
PRODID:-//USD SAN GIUSEPPE - ECPv6.15.20//NONSGML v1.0//EN
CALSCALE:GREGORIAN
METHOD:PUBLISH
X-WR-CALNAME:USD SAN GIUSEPPE
X-ORIGINAL-URL:https://usdsangiuseppe.it
X-WR-CALDESC:Eventi per USD SAN GIUSEPPE
REFRESH-INTERVAL;VALUE=DURATION:PT1H
X-Robots-Tag:noindex
X-PUBLISHED-TTL:PT1H
BEGIN:VTIMEZONE
TZID:UTC
BEGIN:STANDARD
TZOFFSETFROM:+0000
TZOFFSETTO:+0000
TZNAME:UTC
DTSTART:20240101T000000
END:STANDARD
END:VTIMEZONE
BEGIN:VEVENT
DTSTART;TZID=UTC:20250909T200000
DTEND;TZID=UTC:20260627T223000
DTSTAMP:20260425T181434
CREATED:20251127T020248Z
LAST-MODIFIED:20260214T180315Z
UID:4019-1757448000-1782599400@usdsangiuseppe.it
SUMMARY:Tennistavolo
DESCRIPTION:IN SEDE MARTEDI’ E GIOVEDI’  ore 20.30-23.00
URL:https://usdsangiuseppe.it/evento/tennistavolo/
LOCATION:Palestra Noriglio\, palestra scuola primaria Noriglio\, Rovereto\, Italy
CATEGORIES:Tennistavolo
END:VEVENT
END:VCALENDAR